BEGIN:VCALENDAR
VERSION:2.0
PRODID:-//wp-events-plugin.com//7.2.3.1//EN
TZID:America/New_York
X-WR-TIMEZONE:America/New_York
BEGIN:VEVENT
UID:150@gobioff-foundation.org
DTSTART;TZID=America/New_York:20251108T160000
DTEND;TZID=America/New_York:20251108T220000
DTSTAMP:20251022T140131Z
URL:https://www.gobioff-foundation.org/events/i-am-poetry-festival/
SUMMARY:I Am Poetry Festival
DESCRIPTION:Everkesia Taylor\nI Am Poetry Festival\nNovember 8\, 2025\n4 - 
 10 pm\nLolly’s Ranch\n1301 N. Parsons Ave\nSeffner\, FL 33584\n\nThe I A
 m Poetry Festival is a one-day cultural celebration featuring live perform
 ances by poets\, singers\, rappers\, musicians\, a drum circle\, vendor ma
 rket\, bonfire\, and s’mores to connect and uplift diverse voices in Hil
 lsborough County.
ATTACH;FMTTYPE=image/jpeg:https://i0.wp.com/www.gobioff-foundation.org/wp-
 content/uploads/2025/10/IMG_5945.jpeg?fit=1170%2C1398&ssl=1
CATEGORIES:Funded Event,Microgrants
LOCATION:Lolly's Ranch\, 1301 N. Parsons Ave\, Seffner\, FL\, 33584\, Unite
 d States
X-APPLE-STRUCTURED-LOCATION;VALUE=URI;X-ADDRESS=1301 N. Parsons Ave\, Seffn
 er\, FL\, 33584\, United States;X-APPLE-RADIUS=100;X-TITLE=Lolly's Ranch:g
 eo:0,0
END:VEVENT
BEGIN:VTIMEZONE
TZID:America/New_York
X-LIC-LOCATION:America/New_York
BEGIN:STANDARD
DTSTART:20251102T010000
TZOFFSETFROM:-0400
TZOFFSETTO:-0500
TZNAME:EST
END:STANDARD
END:VTIMEZONE
END:VCALENDAR